BEGIN:VCALENDAR
CALSCALE:GREGORIAN
X-WR-TIMEZONE;VALUE=TEXT:Pacific Standard Time
METHOD:PUBLISH
PRODID:-//Flo Inc.//FloSoft//EN
BEGIN:VEVENT
DTSTART;TZID=Pacific Standard Time:20260425T020000Z
DTSTAMP:20260425T020000Z
DTEND;TZID=Pacific Standard Time:20260425T050000Z
SUMMARY;ENCODING=QUOTED-PRINTABLE:Loving Latino Film Festival
DESCRIPTION;ENCODING=QUOTED-PRINTABLE:Annual UCLA student and alumni short film festival 
LOCATION;ENCODING=QUOTED-PRINTABLE:James Bridges Theater
UID:1763420260425T020000ZLoving Latino Film Festival
PRIORITY:3
BEGIN:VALARM
TRIGGER;VALUE=DURATION:-P1D
ACTION:DISPLAY
DESCRIPTION:Event reminder
END:VALARM
END:VEVENT
END:VCALENDAR
